BEGIN:VCALENDAR
VERSION:2.0
METHOD:PUBLISH
PRODID:-//Agenda.ad//NONSGML v1.0//EN
BEGIN:VEVENT
CLASS:PUBLIC
UID:0ff670bdcd8b4174c2833c9aad2c0a56@agenda.ad
DTSTAMP:20260424T095337Z
DTSTART:20200129T230000Z
DTEND:20200129T230000Z
SUMMARY:<span><span>La nuit des id&eacute;es, anim&eacute;e par Audrey Pulvar</span>&nbsp;&middot; Saison Culturelle</span>
DESCRIPTION:El musical\n\nMés informació\nhttps://www.agenda.ad/activi
 tat/escaldes-engordany/conferencies/la-nuit-des-idees-animee
 -par-audrey-pulvar -saison-culturelle\n\n\nOrganitza\nAmbai
 xada de França a Andorra
LOCATION:Sala Prat del Roure
SEQUENCE:0
TRANSP:OPAQUE
X-ALT-DESC;FMTTYPE=text/html:<!DOCTYPE HTML PUBLIC "-//W3C//DTD HTML 3.2//EN"><HTML><HEAD
 ><TITLE></TITLE></HEAD><BODY><FONT FACE="Arial" SIZE=2>El mu
 sical<br/><br/><b>Més informació</b><br/><a href="https://
 www.agenda.ad/activitat/escaldes-engordany/conferencies/la-n
 uit-des-idees-animee-par-audrey-pulvar -saison-culturelle">
 https://www.agenda.ad/activitat/escaldes-engordany/conferenc
 ies/la-nuit-des-idees-animee-par-audrey-pulvar -saison-cult
 urelle</a><br/><br/><br/><b>Organitza</b><br/>Ambaixada de F
 rança a Andorra</FONT></BODY></HTML>
END:VEVENT
END:VCALENDAR